Workbook
Name AnnéeCalendrier: Janvier!$AH$4
Name CléCongé: Janvier!$C$2
Name CléMaladie: Janvier!$J$2
Name CléPersonnalisée1: Janvier!$M$2
Name CléPersonnalisée2: Janvier!$R$2
Name CléPersonnel: Janvier!$F$2
Name ÉtiquetteCléCongé: Janvier!$D$2
Name ÉtiquetteCléMaladie: Janvier!$K$2
Name ÉtiquetteCléPersonnalisée1: Janvier!$N$2
Name ÉtiquetteCléPersonnalisée2: Janvier!$S$2
Name ÉtiquetteCléPersonnel: Janvier!$G$2
Name Nom_clé: Janvier!$B$2
Name NomMois: Août!$B$4
Name NomMois: Avril!$B$4
Name NomMois: Décembre!$B$4
Name NomMois: Février!$B$4
Name NomMois: Janvier!$B$4
Name NomMois: Juillet!$B$4
Name NomMois: Juin!$B$4
Name NomMois: Mai!$B$4
Name NomMois: Mars!$B$4
Name NomMois: Novembre!$B$4
Name NomMois: Octobre!$B$4
Name NomMois: Septembre!$B$4
Name Titre_Absence_Employé: Janvier!$B$1
Name Titre1: Janvier[[#Headers],[Nom de l’employé]]
Name Titre10: Octobre[[#Headers],[Nom de l’employé]]
Name Titre11: Novembre[[#Headers],[Nom de l’employé]]
Name Titre12: Décembre[[#Headers],[Nom de l’employé]]
Name Titre2: Février[[#Headers],[Nom de l’employé]]
Name Titre3: Mars[[#Headers],[Nom de l’employé]]
Name Titre4: Avril[[#Headers],[Nom de l’employé]]
Name Titre5: Mai[[#Headers],[Nom de l’employé]]
Name Titre6: Juin[[#Headers],[Nom de l’employé]]
Name Titre7: Juillet[[#Headers],[Nom de l’employé]]
Name Titre8: Août[[#Headers],[Nom de l’employé]]
Name Titre9: Septembre[[#Headers],[Nom de l’employé]]
Name TitreColonne13: NomEmployé[[#Headers],[Noms des employés]]

Sheet Janvier
B1: Calendrier des absences des employés
B2: Clé de motif d’absence | C2: C | D2: Congé | F2: P | G2: Personnel | J2: M | K2: Maladie | N2: Personnalisé 1 | S2: Personnalisé 2
AH3: Entrez l’année :
B4: Janvier | C4: Dates d’absence | AH4: 2024
C5: =TEXT(WEEKDAY(DATE(AnnéeCalendrier,1,1),1),"jjj") -> lun | D5: =TEXT(WEEKDAY(DATE(AnnéeCalendrier,1,2),1),"jjj") -> mar | E5: =TEXT(WEEKDAY(DATE(AnnéeCalendrier,1,3),1),"jjj") -> mer | F5: =TEXT(WEEKDAY(DATE(AnnéeCalendrier,1,4),1),"jjj") -> jeu | G5: =TEXT(WEEKDAY(DATE(AnnéeCalendrier,1,5),1),"jjj") -> ven | H5: =TEXT(WEEKDAY(DATE(AnnéeCalendrier,1,6),1),"jjj") -> sam | I5: =TEXT(WEEKDAY(DATE(AnnéeCalendrier,1,7),1),"jjj") -> dim | J5: =TEXT(WEEKDAY(DATE(AnnéeCalendrier,1,8),1),"jjj") -> lun | K5: =TEXT(WEEKDAY(DATE(AnnéeCalendrier,1,9),1),"jjj") -> mar | L5: =TEXT(WEEKDAY(DATE(AnnéeCalendrier,1,10),1),"jjj") -> mer | M5: =TEXT(WEEKDAY(DATE(AnnéeCalendrier,1,11),1),"jjj") -> jeu | N5: =TEXT(WEEKDAY(DATE(AnnéeCalendrier,1,12),1),"jjj") -> ven | O5: =TEXT(WEEKDAY(DATE(AnnéeCalendrier,1,13),1),"jjj") -> sam | P5: =TEXT(WEEKDAY(DATE(AnnéeCalendrier,1,14),1),"jjj") -> dim | Q5: =TEXT(WEEKDAY(DATE(AnnéeCalendrier,1,15),1),"jjj") -> lun | R5: =TEXT(WEEKDAY(DATE(AnnéeCalendrier,1,16),1),"jjj") -> mar | S5: =TEXT(WEEKDAY(DATE(AnnéeCalendrier,1,17),1),"jjj") -> mer | T5: =TEXT(WEEKDAY(DATE(AnnéeCalendrier,1,18),1),"jjj") -> jeu | U5: =TEXT(WEEKDAY(DATE(AnnéeCalendrier,1,19),1),"jjj") -> ven | V5: =TEXT(WEEKDAY(DATE(AnnéeCalendrier,1,20),1),"jjj") -> sam | W5: =TEXT(WEEKDAY(DATE(AnnéeCalendrier,1,21),1),"jjj") -> dim | X5: =TEXT(WEEKDAY(DATE(AnnéeCalendrier,1,22),1),"jjj") -> lun | Y5: =TEXT(WEEKDAY(DATE(AnnéeCalendrier,1,23),1),"jjj") -> mar | Z5: =TEXT(WEEKDAY(DATE(AnnéeCalendrier,1,24),1),"jjj") -> mer | AA5: =TEXT(WEEKDAY(DATE(AnnéeCalendrier,1,25),1),"jjj") -> jeu | AB5: =TEXT(WEEKDAY(DATE(AnnéeCalendrier,1,26),1),"jjj") -> ven | AC5: =TEXT(WEEKDAY(DATE(AnnéeCalendrier,1,27),1),"jjj") -> sam | AD5: =TEXT(WEEKDAY(DATE(AnnéeCalendrier,1,28),1),"jjj") -> dim | AE5: =TEXT(WEEKDAY(DATE(AnnéeCalendrier,1,29),1),"jjj") -> lun | AF5: =TEXT(WEEKDAY(DATE(AnnéeCalendrier,1,30),1),"jjj") -> mar | AG5: =TEXT(WEEKDAY(DATE(AnnéeCalendrier,1,31),1),"jjj") -> mer
B6: Nom de l’employé | C6: 1 | D6: 2 | E6: 3 | F6: 4 | G6: 5 | H6: 6 | I6: 7 | J6: 8 | K6: 9 | L6: 10 | M6: 11 | N6: 12 | O6: 13 | P6: 14 | Q6: 15 | R6: 16 | S6: 17 | T6: 18 | U6: 19 | V6: 20 | W6: 21 | X6: 22 | Y6: 23 | Z6: 24 | AA6: 25 | AB6: 26 | AC6: 27 | AD6: 28 | AE6: 29 | AF6: 30 | AG6: 31 | AH6: Total des jours
B7: Employé 1 | E7: C | F7: C | G7: C | H7: C | O7: C | AH7: =COUNTA(Janvier!$C7:$AG7) -> 5
B8: Employé 2 | G8: M | H8: M | M8: P | V8: M | AA8: C | AB8: C | AC8: C | AH8: =COUNTA(Janvier!$C8:$AG8) -> 7
B9: Employé 3 | E9: P | P9: M | AE9: M | AH9: =COUNTA(Janvier!$C9:$AG9) -> 3
B10: Employé 4 | I10: P | U10: C | V10: C | W10: C | AH10: =COUNTA(Janvier!$C10:$AG10) -> 4
B11: Employé 5 | F11: M | G11: C | H11: C | S11: M | Z11: M | AG11: C | AH11: =COUNTA(Janvier!$C11:$AG11) -> 6
B12: =NomMois&" Total" -> Janvier Total | C12: =SUBTOTAL(103,Janvier!$C$7:$C$11) -> 0 | D12: =SUBTOTAL(103,Janvier!$D$7:$D$11) -> 0 | E12: =SUBTOTAL(103,Janvier!$E$7:$E$11) -> 2 | F12: =SUBTOTAL(103,Janvier!$F$7:$F$11) -> 2 | G12: =SUBTOTAL(103,Janvier!$G$7:$G$11) -> 3 | H12: =SUBTOTAL(103,Janvier!$H$7:$H$11) -> 3 | I12: =SUBTOTAL(103,Janvier!$I$7:$I$11) -> 1 | J12: =SUBTOTAL(103,Janvier!$J$7:$J$11) -> 0 | K12: =SUBTOTAL(103,Janvier!$K$7:$K$11) -> 0 | L12: =SUBTOTAL(103,Janvier!$L$7:$L$11) -> 0 | M12: =SUBTOTAL(103,Janvier!$M$7:$M$11) -> 1 | N12: =SUBTOTAL(103,Janvier!$N$7:$N$11) -> 0 | O12: =SUBTOTAL(103,Janvier!$O$7:$O$11) -> 1 | P12: =SUBTOTAL(103,Janvier!$P$7:$P$11) -> 1 | Q12: =SUBTOTAL(103,Janvier!$Q$7:$Q$11) -> 0 | R12: =SUBTOTAL(103,Janvier!$R$7:$R$11) -> 0 | S12: =SUBTOTAL(103,Janvier!$S$7:$S$11) -> 1 | T12: =SUBTOTAL(103,Janvier!$T$7:$T$11) -> 0 | U12: =SUBTOTAL(103,Janvier!$U$7:$U$11) -> 1 | V12: =SUBTOTAL(103,Janvier!$V$7:$V$11) -> 2 | W12: =SUBTOTAL(103,Janvier!$W$7:$W$11) -> 1 | X12: =SUBTOTAL(103,Janvier!$X$7:$X$11) -> 0 | Y12: =SUBTOTAL(103,Janvier!$Y$7:$Y$11) -> 0 | Z12: =SUBTOTAL(103,Janvier!$Z$7:$Z$11) -> 1 | AA12: =SUBTOTAL(103,Janvier!$AA$7:$AA$11) -> 1 | AB12: =SUBTOTAL(103,Janvier!$AB$7:$AB$11) -> 1 | AC12: =SUBTOTAL(103,Janvier!$AC$7:$AC$11) -> 1 | AD12: =SUBTOTAL(103,Janvier!$AD$7:$AD$11) -> 0 | AE12: =SUBTOTAL(103,Janvier!$AE$7:$AE$11) -> 1 | AF12: =SUBTOTAL(103,Janvier!$AF$7:$AF$11) -> 0 | AG12: =SUBTOTAL(103,Janvier!$AG$7:$AG$11) -> 1 | AH12: =SUBTOTAL(109,Janvier[Total des jours]) -> 25

Sheet Février
B1: =Titre_Absence_Employé -> Calendrier des absences des employés
B2: Clé de motif d’absence | C2: C | D2: Congé | F2: P | G2: Personnel | J2: M | K2: Maladie | N2: Personnalisé 1 | S2: Personnalisé 2
B4: Février | C4: Dates d’absence | AH4: =AnnéeCalendrier -> 2024
C5: =TEXT(WEEKDAY(DATE(AnnéeCalendrier,2,1),1),"jjj") -> jeu | D5: =TEXT(WEEKDAY(DATE(AnnéeCalendrier,2,2),1),"jjj") -> ven | E5: =TEXT(WEEKDAY(DATE(AnnéeCalendrier,2,3),1),"jjj") -> sam | F5: =TEXT(WEEKDAY(DATE(AnnéeCalendrier,2,4),1),"jjj") -> dim | G5: =TEXT(WEEKDAY(DATE(AnnéeCalendrier,2,5),1),"jjj") -> lun | H5: =TEXT(WEEKDAY(DATE(AnnéeCalendrier,2,6),1),"jjj") -> mar | I5: =TEXT(WEEKDAY(DATE(AnnéeCalendrier,2,7),1),"jjj") -> mer | J5: =TEXT(WEEKDAY(DATE(AnnéeCalendrier,2,8),1),"jjj") -> jeu | K5: =TEXT(WEEKDAY(DATE(AnnéeCalendrier,2,9),1),"jjj") -> ven | L5: =TEXT(WEEKDAY(DATE(AnnéeCalendrier,2,10),1),"jjj") -> sam | M5: =TEXT(WEEKDAY(DATE(AnnéeCalendrier,2,11),1),"jjj") -> dim | N5: =TEXT(WEEKDAY(DATE(AnnéeCalendrier,2,12),1),"jjj") -> lun | O5: =TEXT(WEEKDAY(DATE(AnnéeCalendrier,2,13),1),"jjj") -> mar | P5: =TEXT(WEEKDAY(DATE(AnnéeCalendrier,2,14),1),"jjj") -> mer | Q5: =TEXT(WEEKDAY(DATE(AnnéeCalendrier,2,15),1),"jjj") -> jeu | R5: =TEXT(WEEKDAY(DATE(AnnéeCalendrier,2,16),1),"jjj") -> ven | S5: =TEXT(WEEKDAY(DATE(AnnéeCalendrier,2,17),1),"jjj") -> sam | T5: =TEXT(WEEKDAY(DATE(AnnéeCalendrier,2,18),1),"jjj") -> dim | U5: =TEXT(WEEKDAY(DATE(AnnéeCalendrier,2,19),1),"jjj") -> lun | V5: =TEXT(WEEKDAY(DATE(AnnéeCalendrier,2,20),1),"jjj") -> mar | W5: =TEXT(WEEKDAY(DATE(AnnéeCalendrier,2,21),1),"jjj") -> mer | X5: =TEXT(WEEKDAY(DATE(AnnéeCalendrier,2,22),1),"jjj") -> jeu | Y5: =TEXT(WEEKDAY(DATE(AnnéeCalendrier,2,23),1),"jjj") -> ven | Z5: =TEXT(WEEKDAY(DATE(AnnéeCalendrier,2,24),1),"jjj") -> sam | AA5: =TEXT(WEEKDAY(DATE(AnnéeCalendrier,2,25),1),"jjj") -> dim | AB5: =TEXT(WEEKDAY(DATE(AnnéeCalendrier,2,26),1),"jjj") -> lun | AC5: =TEXT(WEEKDAY(DATE(AnnéeCalendrier,2,27),1),"jjj") -> mar | AD5: =TEXT(WEEKDAY(DATE(AnnéeCalendrier,2,28),1),"jjj") -> mer | AE5: =TEXT(WEEKDAY(DATE(AnnéeCalendrier,2,29),1),"jjj") -> jeu
B6: Nom de l’employé | C6: 1 | D6: 2 | E6: 3 | F6: 4 | G6: 5 | H6: 6 | I6: 7 | J6: 8 | K6: 9 | L6: 10 | M6: 11 | N6: 12 | O6: 13 | P6: 14 | Q6: 15 | R6: 16 | S6: 17 | T6: 18 | U6: 19 | V6: 20 | W6: 21 | X6: 22 | Y6: 23 | Z6: 24 | AA6: 25 | AB6: 26 | AC6: 27 | AD6: 28 | AE6: 29 | AH6: Total des jours
B7: Employé 1 | AH7: =COUNTA(Février[[#This Row],[1]:[29]]) -> 0
B8: Employé 2 | AH8: =COUNTA(Février[[#This Row],[1]:[29]]) -> 0
B9: Employé 3 | AH9: =COUNTA(Février[[#This Row],[1]:[29]]) -> 0
B10: Employé 4 | AH10: =COUNTA(Février[[#This Row],[1]:[29]]) -> 0
B11: Employé 5 | AH11: =COUNTA(Février[[#This Row],[1]:[29]]) -> 0
B12: =NomMois&" Total" -> Février Total | C12: =SUBTOTAL(103,Février[1]) -> 0 | D12: =SUBTOTAL(103,Février[2]) -> 0 | E12: =SUBTOTAL(103,Février[3]) -> 0 | F12: =SUBTOTAL(103,Février[4]) -> 0 | G12: =SUBTOTAL(103,Février[5]) -> 0 | H12: =SUBTOTAL(103,Février[6]) -> 0 | I12: =SUBTOTAL(103,Février[7]) -> 0 | J12: =SUBTOTAL(103,Février[8]) -> 0 | K12: =SUBTOTAL(103,Février[9]) -> 0 | L12: =SUBTOTAL(103,Février[10]) -> 0 | M12: =SUBTOTAL(103,Février[11]) -> 0 | N12: =SUBTOTAL(103,Février[12]) -> 0 | O12: =SUBTOTAL(103,Février[13]) -> 0 | P12: =SUBTOTAL(103,Février[14]) -> 0 | Q12: =SUBTOTAL(103,Février[15]) -> 0 | R12: =SUBTOTAL(103,Février[16]) -> 0 | S12: =SUBTOTAL(103,Février[17]) -> 0 | T12: =SUBTOTAL(103,Février[18]) -> 0 | U12: =SUBTOTAL(103,Février[19]) -> 0 | V12: =SUBTOTAL(103,Février[20]) -> 0 | W12: =SUBTOTAL(103,Février[21]) -> 0 | X12: =SUBTOTAL(103,Février[22]) -> 0 | Y12: =SUBTOTAL(103,Février[23]) -> 0 | Z12: =SUBTOTAL(103,Février[24]) -> 0 | AA12: =SUBTOTAL(103,Février[25]) -> 0 | AB12: =SUBTOTAL(103,Février[26]) -> 0 | AC12: =SUBTOTAL(103,Février[27]) -> 0 | AD12: =SUBTOTAL(103,Février[28]) -> 0 | AE12: =SUBTOTAL(103,Février[29]) -> 0 | AH12: =SUBTOTAL(109,Février[Total des jours]) -> 0

Sheet Mars
B1: =Titre_Absence_Employé -> Calendrier des absences des employés
B2: Clé de motif d’absence | C2: C | D2: Congé | F2: P | G2: Personnel | J2: M | K2: Maladie | N2: Personnalisé 1 | S2: Personnalisé 2
B4: Mars | C4: Dates d’absence | AH4: =AnnéeCalendrier -> 2024
C5: =TEXT(WEEKDAY(DATE(AnnéeCalendrier,3,1),1),"jjj") -> ven | D5: =TEXT(WEEKDAY(DATE(AnnéeCalendrier,3,2),1),"jjj") -> sam | E5: =TEXT(WEEKDAY(DATE(AnnéeCalendrier,3,3),1),"jjj") -> dim | F5: =TEXT(WEEKDAY(DATE(AnnéeCalendrier,3,4),1),"jjj") -> lun | G5: =TEXT(WEEKDAY(DATE(AnnéeCalendrier,3,5),1),"jjj") -> mar | H5: =TEXT(WEEKDAY(DATE(AnnéeCalendrier,3,6),1),"jjj") -> mer | I5: =TEXT(WEEKDAY(DATE(AnnéeCalendrier,3,7),1),"jjj") -> jeu | J5: =TEXT(WEEKDAY(DATE(AnnéeCalendrier,3,8),1),"jjj") -> ven | K5: =TEXT(WEEKDAY(DATE(AnnéeCalendrier,3,9),1),"jjj") -> sam | L5: =TEXT(WEEKDAY(DATE(AnnéeCalendrier,3,10),1),"jjj") -> dim | M5: =TEXT(WEEKDAY(DATE(AnnéeCalendrier,3,11),1),"jjj") -> lun | N5: =TEXT(WEEKDAY(DATE(AnnéeCalendrier,3,12),1),"jjj") -> mar | O5: =TEXT(WEEKDAY(DATE(AnnéeCalendrier,3,13),1),"jjj") -> mer | P5: =TEXT(WEEKDAY(DATE(AnnéeCalendrier,3,14),1),"jjj") -> jeu | Q5: =TEXT(WEEKDAY(DATE(AnnéeCalendrier,3,15),1),"jjj") -> ven | R5: =TEXT(WEEKDAY(DATE(AnnéeCalendrier,3,16),1),"jjj") -> sam | S5: =TEXT(WEEKDAY(DATE(AnnéeCalendrier,3,17),1),"jjj") -> dim | T5: =TEXT(WEEKDAY(DATE(AnnéeCalendrier,3,18),1),"jjj") -> lun | U5: =TEXT(WEEKDAY(DATE(AnnéeCalendrier,3,19),1),"jjj") -> mar | V5: =TEXT(WEEKDAY(DATE(AnnéeCalendrier,3,20),1),"jjj") -> mer | W5: =TEXT(WEEKDAY(DATE(AnnéeCalendrier,3,21),1),"jjj") -> jeu | X5: =TEXT(WEEKDAY(DATE(AnnéeCalendrier,3,22),1),"jjj") -> ven | Y5: =TEXT(WEEKDAY(DATE(AnnéeCalendrier,3,23),1),"jjj") -> sam | Z5: =TEXT(WEEKDAY(DATE(AnnéeCalendrier,3,24),1),"jjj") -> dim | AA5: =TEXT(WEEKDAY(DATE(AnnéeCalendrier,3,25),1),"jjj") -> lun | AB5: =TEXT(WEEKDAY(DATE(AnnéeCalendrier,3,26),1),"jjj") -> mar | AC5: =TEXT(WEEKDAY(DATE(AnnéeCalendrier,3,27),1),"jjj") -> mer | AD5: =TEXT(WEEKDAY(DATE(AnnéeCalendrier,3,28),1),"jjj") -> jeu | AE5: =TEXT(WEEKDAY(DATE(AnnéeCalendrier,3,29),1),"jjj") -> ven | AF5: =TEXT(WEEKDAY(DATE(AnnéeCalendrier,3,30),1),"jjj") -> sam | AG5: =TEXT(WEEKDAY(DATE(AnnéeCalendrier,3,31),1),"jjj") -> dim
B6: Nom de l’employé | C6: 1 | D6: 2 | E6: 3 | F6: 4 | G6: 5 | H6: 6 | I6: 7 | J6: 8 | K6: 9 | L6: 10 | M6: 11 | N6: 12 | O6: 13 | P6: 14 | Q6: 15 | R6: 16 | S6: 17 | T6: 18 | U6: 19 | V6: 20 | W6: 21 | X6: 22 | Y6: 23 | Z6: 24 | AA6: 25 | AB6: 26 | AC6: 27 | AD6: 28 | AE6: 29 | AF6: 30 | AG6: 31 | AH6: Total des jours
B7: Employé 1 | AH7: =COUNTA(Mars[[#This Row],[1]:[31]]) -> 0
B8: Employé 2 | AH8: =COUNTA(Mars[[#This Row],[1]:[31]]) -> 0
B9: Employé 3 | AH9: =COUNTA(Mars[[#This Row],[1]:[31]]) -> 0
B10: Employé 4 | AH10: =COUNTA(Mars[[#This Row],[1]:[31]]) -> 0
B11: Employé 5 | AH11: =COUNTA(Mars[[#This Row],[1]:[31]]) -> 0
B12: =NomMois&" Total" -> Mars Total | C12: =SUBTOTAL(103,Mars[1]) -> 0 | D12: =SUBTOTAL(103,Mars[2]) -> 0 | E12: =SUBTOTAL(103,Mars[3]) -> 0 | F12: =SUBTOTAL(103,Mars[4]) -> 0 | G12: =SUBTOTAL(103,Mars[5]) -> 0 | H12: =SUBTOTAL(103,Mars[6]) -> 0 | I12: =SUBTOTAL(103,Mars[7]) -> 0 | J12: =SUBTOTAL(103,Mars[8]) -> 0 | K12: =SUBTOTAL(103,Mars[9]) -> 0 | L12: =SUBTOTAL(103,Mars[10]) -> 0 | M12: =SUBTOTAL(103,Mars[11]) -> 0 | N12: =SUBTOTAL(103,Mars[12]) -> 0 | O12: =SUBTOTAL(103,Mars[13]) -> 0 | P12: =SUBTOTAL(103,Mars[14]) -> 0 | Q12: =SUBTOTAL(103,Mars[15]) -> 0 | R12: =SUBTOTAL(103,Mars[16]) -> 0 | S12: =SUBTOTAL(103,Mars[17]) -> 0 | T12: =SUBTOTAL(103,Mars[18]) -> 0 | U12: =SUBTOTAL(103,Mars[19]) -> 0 | V12: =SUBTOTAL(103,Mars[20]) -> 0 | W12: =SUBTOTAL(103,Mars[21]) -> 0 | X12: =SUBTOTAL(103,Mars[22]) -> 0 | Y12: =SUBTOTAL(103,Mars[23]) -> 0 | Z12: =SUBTOTAL(103,Mars[24]) -> 0 | AA12: =SUBTOTAL(103,Mars[25]) -> 0 | AB12: =SUBTOTAL(103,Mars[26]) -> 0 | AC12: =SUBTOTAL(103,Mars[27]) -> 0 | AD12: =SUBTOTAL(103,Mars[28]) -> 0 | AE12: =SUBTOTAL(103,Mars[29]) -> 0 | AF12: =SUBTOTAL(103,Mars[30]) -> 0 | AG12: =SUBTOTAL(103,Mars[31]) -> 0 | AH12: =SUBTOTAL(109,Mars[Total des jours]) -> 0

Sheet Avril
B1: =Titre_Absence_Employé -> Calendrier des absences des employés
B2: Clé de motif d’absence | C2: C | D2: Congé | F2: P | G2: Personnel | J2: M | K2: Maladie | N2: Personnalisé 1 | S2: Personnalisé 2
B4: Avril | C4: Dates d’absence | AH4: =AnnéeCalendrier -> 2024
C5: =TEXT(WEEKDAY(DATE(AnnéeCalendrier,4,1),1),"jjj") -> lun | D5: =TEXT(WEEKDAY(DATE(AnnéeCalendrier,4,2),1),"jjj") -> mar | E5: =TEXT(WEEKDAY(DATE(AnnéeCalendrier,4,3),1),"jjj") -> mer | F5: =TEXT(WEEKDAY(DATE(AnnéeCalendrier,4,4),1),"jjj") -> jeu | G5: =TEXT(WEEKDAY(DATE(AnnéeCalendrier,4,5),1),"jjj") -> ven | H5: =TEXT(WEEKDAY(DATE(AnnéeCalendrier,4,6),1),"jjj") -> sam | I5: =TEXT(WEEKDAY(DATE(AnnéeCalendrier,4,7),1),"jjj") -> dim | J5: =TEXT(WEEKDAY(DATE(AnnéeCalendrier,4,8),1),"jjj") -> lun | K5: =TEXT(WEEKDAY(DATE(AnnéeCalendrier,4,9),1),"jjj") -> mar | L5: =TEXT(WEEKDAY(DATE(AnnéeCalendrier,4,10),1),"jjj") -> mer | M5: =TEXT(WEEKDAY(DATE(AnnéeCalendrier,4,11),1),"jjj") -> jeu | N5: =TEXT(WEEKDAY(DATE(AnnéeCalendrier,4,12),1),"jjj") -> ven | O5: =TEXT(WEEKDAY(DATE(AnnéeCalendrier,4,13),1),"jjj") -> sam | P5: =TEXT(WEEKDAY(DATE(AnnéeCalendrier,4,14),1),"jjj") -> dim | Q5: =TEXT(WEEKDAY(DATE(AnnéeCalendrier,4,15),1),"jjj") -> lun | R5: =TEXT(WEEKDAY(DATE(AnnéeCalendrier,4,16),1),"jjj") -> mar | S5: =TEXT(WEEKDAY(DATE(AnnéeCalendrier,4,17),1),"jjj") -> mer | T5: =TEXT(WEEKDAY(DATE(AnnéeCalendrier,4,18),1),"jjj") -> jeu | U5: =TEXT(WEEKDAY(DATE(AnnéeCalendrier,4,19),1),"jjj") -> ven | V5: =TEXT(WEEKDAY(DATE(AnnéeCalendrier,4,20),1),"jjj") -> sam | W5: =TEXT(WEEKDAY(DATE(AnnéeCalendrier,4,21),1),"jjj") -> dim | X5: =TEXT(WEEKDAY(DATE(AnnéeCalendrier,4,22),1),"jjj") -> lun | Y5: =TEXT(WEEKDAY(DATE(AnnéeCalendrier,4,23),1),"jjj") -> mar | Z5: =TEXT(WEEKDAY(DATE(AnnéeCalendrier,4,24),1),"jjj") -> mer | AA5: =TEXT(WEEKDAY(DATE(AnnéeCalendrier,4,25),1),"jjj") -> jeu | AB5: =TEXT(WEEKDAY(DATE(AnnéeCalendrier,4,26),1),"jjj") -> ven | AC5: =TEXT(WEEKDAY(DATE(AnnéeCalendrier,4,27),1),"jjj") -> sam | AD5: =TEXT(WEEKDAY(DATE(AnnéeCalendrier,4,28),1),"jjj") -> dim | AE5: =TEXT(WEEKDAY(DATE(AnnéeCalendrier,4,29),1),"jjj") -> lun | AF5: =TEXT(WEEKDAY(DATE(AnnéeCalendrier,4,30),1),"jjj") -> mar
B6: Nom de l’employé | C6: 1 | D6: 2 | E6: 3 | F6: 4 | G6: 5 | H6: 6 | I6: 7 | J6: 8 | K6: 9 | L6: 10 | M6: 11 | N6: 12 | O6: 13 | P6: 14 | Q6: 15 | R6: 16 | S6: 17 | T6: 18 | U6: 19 | V6: 20 | W6: 21 | X6: 22 | Y6: 23 | Z6: 24 | AA6: 25 | AB6: 26 | AC6: 27 | AD6: 28 | AE6: 29 | AF6: 30 | AH6: Total des jours
B7: Employé 1 | AH7: =COUNTA(Avril[[#This Row],[1]:[30]]) -> 0
B8: Employé 2 | AH8: =COUNTA(Avril[[#This Row],[1]:[30]]) -> 0
B9: Employé 3 | AH9: =COUNTA(Avril[[#This Row],[1]:[30]]) -> 0
B10: Employé 4 | AH10: =COUNTA(Avril[[#This Row],[1]:[30]]) -> 0
B11: Employé 5 | AH11: =COUNTA(Avril[[#This Row],[1]:[30]]) -> 0
B12: =NomMois&" Total" -> Avril Total | C12: =SUBTOTAL(103,Avril[1]) -> 0 | D12: =SUBTOTAL(103,Avril[2]) -> 0 | E12: =SUBTOTAL(103,Avril[3]) -> 0 | F12: =SUBTOTAL(103,Avril[4]) -> 0 | G12: =SUBTOTAL(103,Avril[5]) -> 0 | H12: =SUBTOTAL(103,Avril[6]) -> 0 | I12: =SUBTOTAL(103,Avril[7]) -> 0 | J12: =SUBTOTAL(103,Avril[8]) -> 0 | K12: =SUBTOTAL(103,Avril[9]) -> 0 | L12: =SUBTOTAL(103,Avril[10]) -> 0 | M12: =SUBTOTAL(103,Avril[11]) -> 0 | N12: =SUBTOTAL(103,Avril[12]) -> 0 | O12: =SUBTOTAL(103,Avril[13]) -> 0 | P12: =SUBTOTAL(103,Avril[14]) -> 0 | Q12: =SUBTOTAL(103,Avril[15]) -> 0 | R12: =SUBTOTAL(103,Avril[16]) -> 0 | S12: =SUBTOTAL(103,Avril[17]) -> 0 | T12: =SUBTOTAL(103,Avril[18]) -> 0 | U12: =SUBTOTAL(103,Avril[19]) -> 0 | V12: =SUBTOTAL(103,Avril[20]) -> 0 | W12: =SUBTOTAL(103,Avril[21]) -> 0 | X12: =SUBTOTAL(103,Avril[22]) -> 0 | Y12: =SUBTOTAL(103,Avril[23]) -> 0 | Z12: =SUBTOTAL(103,Avril[24]) -> 0 | AA12: =SUBTOTAL(103,Avril[25]) -> 0 | AB12: =SUBTOTAL(103,Avril[26]) -> 0 | AC12: =SUBTOTAL(103,Avril[27]) -> 0 | AD12: =SUBTOTAL(103,Avril[28]) -> 0 | AE12: =SUBTOTAL(103,Avril[29]) -> 0 | AF12: =SUBTOTAL(103,Avril[30]) -> 0 | AG12: =SUBTOTAL(103,Avril[30]) -> 0 | AH12: =SUBTOTAL(109,Avril[Total des jours]) -> 0

Sheet Mai
B1: =Titre_Absence_Employé -> Calendrier des absences des employés
B2: Clé de motif d’absence | C2: C | D2: Congé | F2: P | G2: Personnel | J2: M | K2: Maladie | N2: Personnalisé 1 | S2: Personnalisé 2
B4: Mai | C4: Dates d’absence | AH4: =AnnéeCalendrier -> 2024
C5: =TEXT(WEEKDAY(DATE(AnnéeCalendrier,5,1),1),"jjj") -> mer | D5: =TEXT(WEEKDAY(DATE(AnnéeCalendrier,5,2),1),"jjj") -> jeu | E5: =TEXT(WEEKDAY(DATE(AnnéeCalendrier,5,3),1),"jjj") -> ven | F5: =TEXT(WEEKDAY(DATE(AnnéeCalendrier,5,4),1),"jjj") -> sam | G5: =TEXT(WEEKDAY(DATE(AnnéeCalendrier,5,5),1),"jjj") -> dim | H5: =TEXT(WEEKDAY(DATE(AnnéeCalendrier,5,6),1),"jjj") -> lun | I5: =TEXT(WEEKDAY(DATE(AnnéeCalendrier,5,7),1),"jjj") -> mar | J5: =TEXT(WEEKDAY(DATE(AnnéeCalendrier,5,8),1),"jjj") -> mer | K5: =TEXT(WEEKDAY(DATE(AnnéeCalendrier,5,9),1),"jjj") -> jeu | L5: =TEXT(WEEKDAY(DATE(AnnéeCalendrier,5,10),1),"jjj") -> ven | M5: =TEXT(WEEKDAY(DATE(AnnéeCalendrier,5,11),1),"jjj") -> sam | N5: =TEXT(WEEKDAY(DATE(AnnéeCalendrier,5,12),1),"jjj") -> dim | O5: =TEXT(WEEKDAY(DATE(AnnéeCalendrier,5,13),1),"jjj") -> lun | P5: =TEXT(WEEKDAY(DATE(AnnéeCalendrier,5,14),1),"jjj") -> mar | Q5: =TEXT(WEEKDAY(DATE(AnnéeCalendrier,5,15),1),"jjj") -> mer | R5: =TEXT(WEEKDAY(DATE(AnnéeCalendrier,5,16),1),"jjj") -> jeu | S5: =TEXT(WEEKDAY(DATE(AnnéeCalendrier,5,17),1),"jjj") -> ven | T5: =TEXT(WEEKDAY(DATE(AnnéeCalendrier,5,18),1),"jjj") -> sam | U5: =TEXT(WEEKDAY(DATE(AnnéeCalendrier,5,19),1),"jjj") -> dim | V5: =TEXT(WEEKDAY(DATE(AnnéeCalendrier,5,20),1),"jjj") -> lun | W5: =TEXT(WEEKDAY(DATE(AnnéeCalendrier,5,21),1),"jjj") -> mar | X5: =TEXT(WEEKDAY(DATE(AnnéeCalendrier,5,22),1),"jjj") -> mer | Y5: =TEXT(WEEKDAY(DATE(AnnéeCalendrier,5,23),1),"jjj") -> jeu | Z5: =TEXT(WEEKDAY(DATE(AnnéeCalendrier,5,24),1),"jjj") -> ven | AA5: =TEXT(WEEKDAY(DATE(AnnéeCalendrier,5,25),1),"jjj") -> sam | AB5: =TEXT(WEEKDAY(DATE(AnnéeCalendrier,5,26),1),"jjj") -> dim | AC5: =TEXT(WEEKDAY(DATE(AnnéeCalendrier,5,27),1),"jjj") -> lun | AD5: =TEXT(WEEKDAY(DATE(AnnéeCalendrier,5,28),1),"jjj") -> mar | AE5: =TEXT(WEEKDAY(DATE(AnnéeCalendrier,5,29),1),"jjj") -> mer | AF5: =TEXT(WEEKDAY(DATE(AnnéeCalendrier,5,30),1),"jjj") -> jeu | AG5: =TEXT(WEEKDAY(DATE(AnnéeCalendrier,5,31),1),"jjj") -> ven
B6: Nom de l’employé | C6: 1 | D6: 2 | E6: 3 | F6: 4 | G6: 5 | H6: 6 | I6: 7 | J6: 8 | K6: 9 | L6: 10 | M6: 11 | N6: 12 | O6: 13 | P6: 14 | Q6: 15 | R6: 16 | S6: 17 | T6: 18 | U6: 19 | V6: 20 | W6: 21 | X6: 22 | Y6: 23 | Z6: 24 | AA6: 25 | AB6: 26 | AC6: 27 | AD6: 28 | AE6: 29 | AF6: 30 | AG6: 31 | AH6: Total des jours
B7: Employé 1 | AH7: =COUNTA(Mai[[#This Row],[1]:[31]]) -> 0
B8: Employé 2 | AH8: =COUNTA(Mai[[#This Row],[1]:[31]]) -> 0
B9: Employé 3 | AH9: =COUNTA(Mai[[#This Row],[1]:[31]]) -> 0
B10: Employé 4 | AH10: =COUNTA(Mai[[#This Row],[1]:[31]]) -> 0
B11: Employé 5 | AH11: =COUNTA(Mai[[#This Row],[1]:[31]]) -> 0
B12: =NomMois&" Total" -> Mai Total | C12: =SUBTOTAL(103,Mai[1]) -> 0 | D12: =SUBTOTAL(103,Mai[2]) -> 0 | E12: =SUBTOTAL(103,Mai[3]) -> 0 | F12: =SUBTOTAL(103,Mai[4]) -> 0 | G12: =SUBTOTAL(103,Mai[5]) -> 0 | H12: =SUBTOTAL(103,Mai[6]) -> 0 | I12: =SUBTOTAL(103,Mai[7]) -> 0 | J12: =SUBTOTAL(103,Mai[8]) -> 0 | K12: =SUBTOTAL(103,Mai[9]) -> 0 | L12: =SUBTOTAL(103,Mai[10]) -> 0 | M12: =SUBTOTAL(103,Mai[11]) -> 0 | N12: =SUBTOTAL(103,Mai[12]) -> 0 | O12: =SUBTOTAL(103,Mai[13]) -> 0 | P12: =SUBTOTAL(103,Mai[14]) -> 0 | Q12: =SUBTOTAL(103,Mai[15]) -> 0 | R12: =SUBTOTAL(103,Mai[16]) -> 0 | S12: =SUBTOTAL(103,Mai[17]) -> 0 | T12: =SUBTOTAL(103,Mai[18]) -> 0 | U12: =SUBTOTAL(103,Mai[19]) -> 0 | V12: =SUBTOTAL(103,Mai[20]) -> 0 | W12: =SUBTOTAL(103,Mai[21]) -> 0 | X12: =SUBTOTAL(103,Mai[22]) -> 0 | Y12: =SUBTOTAL(103,Mai[23]) -> 0 | Z12: =SUBTOTAL(103,Mai[24]) -> 0 | AA12: =SUBTOTAL(103,Mai[25]) -> 0 | AB12: =SUBTOTAL(103,Mai[26]) -> 0 | AC12: =SUBTOTAL(103,Mai[27]) -> 0 | AD12: =SUBTOTAL(103,Mai[28]) -> 0 | AE12: =SUBTOTAL(103,Mai[29]) -> 0 | AF12: =SUBTOTAL(103,Mai[30]) -> 0 | AG12: =SUBTOTAL(103,Mai[31]) -> 0 | AH12: =SUBTOTAL(109,Mai[Total des jours]) -> 0

Sheet Juin
B1: =Titre_Absence_Employé -> Calendrier des absences des employés
B2: Clé de motif d’absence | C2: C | D2: Congé | F2: P | G2: Personnel | J2: M | K2: Maladie | N2: Personnalisé 1 | S2: Personnalisé 2
B4: Juin | C4: Dates d’absence | AH4: =AnnéeCalendrier -> 2024
C5: =TEXT(WEEKDAY(DATE(AnnéeCalendrier,6,1),1),"jjj") -> sam | D5: =TEXT(WEEKDAY(DATE(AnnéeCalendrier,6,2),1),"jjj") -> dim | E5: =TEXT(WEEKDAY(DATE(AnnéeCalendrier,6,3),1),"jjj") -> lun | F5: =TEXT(WEEKDAY(DATE(AnnéeCalendrier,6,4),1),"jjj") -> mar | G5: =TEXT(WEEKDAY(DATE(AnnéeCalendrier,6,5),1),"jjj") -> mer | H5: =TEXT(WEEKDAY(DATE(AnnéeCalendrier,6,6),1),"jjj") -> jeu | I5: =TEXT(WEEKDAY(DATE(AnnéeCalendrier,6,7),1),"jjj") -> ven | J5: =TEXT(WEEKDAY(DATE(AnnéeCalendrier,6,8),1),"jjj") -> sam | K5: =TEXT(WEEKDAY(DATE(AnnéeCalendrier,6,9),1),"jjj") -> dim | L5: =TEXT(WEEKDAY(DATE(AnnéeCalendrier,6,10),1),"jjj") -> lun | M5: =TEXT(WEEKDAY(DATE(AnnéeCalendrier,6,11),1),"jjj") -> mar | N5: =TEXT(WEEKDAY(DATE(AnnéeCalendrier,6,12),1),"jjj") -> mer | O5: =TEXT(WEEKDAY(DATE(AnnéeCalendrier,6,13),1),"jjj") -> jeu | P5: =TEXT(WEEKDAY(DATE(AnnéeCalendrier,6,14),1),"jjj") -> ven | Q5: =TEXT(WEEKDAY(DATE(AnnéeCalendrier,6,15),1),"jjj") -> sam | R5: =TEXT(WEEKDAY(DATE(AnnéeCalendrier,6,16),1),"jjj") -> dim | S5: =TEXT(WEEKDAY(DATE(AnnéeCalendrier,6,17),1),"jjj") -> lun | T5: =TEXT(WEEKDAY(DATE(AnnéeCalendrier,6,18),1),"jjj") -> mar | U5: =TEXT(WEEKDAY(DATE(AnnéeCalendrier,6,19),1),"jjj") -> mer | V5: =TEXT(WEEKDAY(DATE(AnnéeCalendrier,6,20),1),"jjj") -> jeu | W5: =TEXT(WEEKDAY(DATE(AnnéeCalendrier,6,21),1),"jjj") -> ven | X5: =TEXT(WEEKDAY(DATE(AnnéeCalendrier,6,22),1),"jjj") -> sam | Y5: =TEXT(WEEKDAY(DATE(AnnéeCalendrier,6,23),1),"jjj") -> dim | Z5: =TEXT(WEEKDAY(DATE(AnnéeCalendrier,6,24),1),"jjj") -> lun | AA5: =TEXT(WEEKDAY(DATE(AnnéeCalendrier,6,25),1),"jjj") -> mar | AB5: =TEXT(WEEKDAY(DATE(AnnéeCalendrier,6,26),1),"jjj") -> mer | AC5: =TEXT(WEEKDAY(DATE(AnnéeCalendrier,6,27),1),"jjj") -> jeu | AD5: =TEXT(WEEKDAY(DATE(AnnéeCalendrier,6,28),1),"jjj") -> ven | AE5: =TEXT(WEEKDAY(DATE(AnnéeCalendrier,6,29),1),"jjj") -> sam | AF5: =TEXT(WEEKDAY(DATE(AnnéeCalendrier,6,30),1),"jjj") -> dim
B6: Nom de l’employé | C6: 1 | D6: 2 | E6: 3 | F6: 4 | G6: 5 | H6: 6 | I6: 7 | J6: 8 | K6: 9 | L6: 10 | M6: 11 | N6: 12 | O6: 13 | P6: 14 | Q6: 15 | R6: 16 | S6: 17 | T6: 18 | U6: 19 | V6: 20 | W6: 21 | X6: 22 | Y6: 23 | Z6: 24 | AA6: 25 | AB6: 26 | AC6: 27 | AD6: 28 | AE6: 29 | AF6: 30 | AH6: Total des jours
B7: Employé 1 | AH7: =COUNTA(Juin[[#This Row],[1]:[30]]) -> 0
B8: Employé 2 | AH8: =COUNTA(Juin[[#This Row],[1]:[30]]) -> 0
B9: Employé 3 | AH9: =COUNTA(Juin[[#This Row],[1]:[30]]) -> 0
B10: Employé 4 | AH10: =COUNTA(Juin[[#This Row],[1]:[30]]) -> 0
B11: Employé 5 | AH11: =COUNTA(Juin[[#This Row],[1]:[30]]) -> 0
B12: =NomMois&" Total" -> Juin Total | C12: =SUBTOTAL(103,Juin[1]) -> 0 | D12: =SUBTOTAL(103,Juin[2]) -> 0 | E12: =SUBTOTAL(103,Juin[3]) -> 0 | F12: =SUBTOTAL(103,Juin[4]) -> 0 | G12: =SUBTOTAL(103,Juin[5]) -> 0 | H12: =SUBTOTAL(103,Juin[6]) -> 0 | I12: =SUBTOTAL(103,Juin[7]) -> 0 | J12: =SUBTOTAL(103,Juin[8]) -> 0 | K12: =SUBTOTAL(103,Juin[9]) -> 0 | L12: =SUBTOTAL(103,Juin[10]) -> 0 | M12: =SUBTOTAL(103,Juin[11]) -> 0 | N12: =SUBTOTAL(103,Juin[12]) -> 0 | O12: =SUBTOTAL(103,Juin[13]) -> 0 | P12: =SUBTOTAL(103,Juin[14]) -> 0 | Q12: =SUBTOTAL(103,Juin[15]) -> 0 | R12: =SUBTOTAL(103,Juin[16]) -> 0 | S12: =SUBTOTAL(103,Juin[17]) -> 0 | T12: =SUBTOTAL(103,Juin[18]) -> 0 | U12: =SUBTOTAL(103,Juin[19]) -> 0 | V12: =SUBTOTAL(103,Juin[20]) -> 0 | W12: =SUBTOTAL(103,Juin[21]) -> 0 | X12: =SUBTOTAL(103,Juin[22]) -> 0 | Y12: =SUBTOTAL(103,Juin[23]) -> 0 | Z12: =SUBTOTAL(103,Juin[24]) -> 0 | AA12: =SUBTOTAL(103,Juin[25]) -> 0 | AB12: =SUBTOTAL(103,Juin[26]) -> 0 | AC12: =SUBTOTAL(103,Juin[27]) -> 0 | AD12: =SUBTOTAL(103,Juin[28]) -> 0 | AE12: =SUBTOTAL(103,Juin[29]) -> 0 | AF12: =SUBTOTAL(103,Juin[30]) -> 0 | AG12: =SUBTOTAL(103,Juin[[ ]]) -> 0 | AH12: =SUBTOTAL(109,Juin[Total des jours]) -> 0

Sheet Juillet
B1: =Titre_Absence_Employé -> Calendrier des absences des employés
B2: Clé de motif d’absence | C2: C | D2: Congé | F2: P | G2: Personnel | J2: M | K2: Maladie | N2: Personnalisé 1 | S2: Personnalisé 2
B4: Juillet | C4: Dates d’absence | AH4: =AnnéeCalendrier -> 2024
C5: =TEXT(WEEKDAY(DATE(AnnéeCalendrier,7,1),1),"jjj") -> lun | D5: =TEXT(WEEKDAY(DATE(AnnéeCalendrier,7,2),1),"jjj") -> mar | E5: =TEXT(WEEKDAY(DATE(AnnéeCalendrier,7,3),1),"jjj") -> mer | F5: =TEXT(WEEKDAY(DATE(AnnéeCalendrier,7,4),1),"jjj") -> jeu | G5: =TEXT(WEEKDAY(DATE(AnnéeCalendrier,7,5),1),"jjj") -> ven | H5: =TEXT(WEEKDAY(DATE(AnnéeCalendrier,7,6),1),"jjj") -> sam | I5: =TEXT(WEEKDAY(DATE(AnnéeCalendrier,7,7),1),"jjj") -> dim | J5: =TEXT(WEEKDAY(DATE(AnnéeCalendrier,7,8),1),"jjj") -> lun | K5: =TEXT(WEEKDAY(DATE(AnnéeCalendrier,7,9),1),"jjj") -> mar | L5: =TEXT(WEEKDAY(DATE(AnnéeCalendrier,7,10),1),"jjj") -> mer | M5: =TEXT(WEEKDAY(DATE(AnnéeCalendrier,7,11),1),"jjj") -> jeu | N5: =TEXT(WEEKDAY(DATE(AnnéeCalendrier,7,12),1),"jjj") -> ven | O5: =TEXT(WEEKDAY(DATE(AnnéeCalendrier,7,13),1),"jjj") -> sam | P5: =TEXT(WEEKDAY(DATE(AnnéeCalendrier,7,14),1),"jjj") -> dim | Q5: =TEXT(WEEKDAY(DATE(AnnéeCalendrier,7,15),1),"jjj") -> lun | R5: =TEXT(WEEKDAY(DATE(AnnéeCalendrier,7,16),1),"jjj") -> mar | S5: =TEXT(WEEKDAY(DATE(AnnéeCalendrier,7,17),1),"jjj") -> mer | T5: =TEXT(WEEKDAY(DATE(AnnéeCalendrier,7,18),1),"jjj") -> jeu | U5: =TEXT(WEEKDAY(DATE(AnnéeCalendrier,7,19),1),"jjj") -> ven | V5: =TEXT(WEEKDAY(DATE(AnnéeCalendrier,7,20),1),"jjj") -> sam | W5: =TEXT(WEEKDAY(DATE(AnnéeCalendrier,7,21),1),"jjj") -> dim | X5: =TEXT(WEEKDAY(DATE(AnnéeCalendrier,7,22),1),"jjj") -> lun | Y5: =TEXT(WEEKDAY(DATE(AnnéeCalendrier,7,23),1),"jjj") -> mar | Z5: =TEXT(WEEKDAY(DATE(AnnéeCalendrier,7,24),1),"jjj") -> mer | AA5: =TEXT(WEEKDAY(DATE(AnnéeCalendrier,7,25),1),"jjj") -> jeu | AB5: =TEXT(WEEKDAY(DATE(AnnéeCalendrier,7,26),1),"jjj") -> ven | AC5: =TEXT(WEEKDAY(DATE(AnnéeCalendrier,7,27),1),"jjj") -> sam | AD5: =TEXT(WEEKDAY(DATE(AnnéeCalendrier,7,28),1),"jjj") -> dim | AE5: =TEXT(WEEKDAY(DATE(AnnéeCalendrier,7,29),1),"jjj") -> lun | AF5: =TEXT(WEEKDAY(DATE(AnnéeCalendrier,7,30),1),"jjj") -> mar | AG5: =TEXT(WEEKDAY(DATE(AnnéeCalendrier,7,31),1),"jjj") -> mer
B6: Nom de l’employé | C6: 1 | D6: 2 | E6: 3 | F6: 4 | G6: 5 | H6: 6 | I6: 7 | J6: 8 | K6: 9 | L6: 10 | M6: 11 | N6: 12 | O6: 13 | P6: 14 | Q6: 15 | R6: 16 | S6: 17 | T6: 18 | U6: 19 | V6: 20 | W6: 21 | X6: 22 | Y6: 23 | Z6: 24 | AA6: 25 | AB6: 26 | AC6: 27 | AD6: 28 | AE6: 29 | AF6: 30 | AG6: 31 | AH6: Total des jours
B7: Employé 1 | AH7: =COUNTA(Juillet[[#This Row],[1]:[31]]) -> 0
B8: Employé 2 | AH8: =COUNTA(Juillet[[#This Row],[1]:[31]]) -> 0
B9: Employé 3 | AH9: =COUNTA(Juillet[[#This Row],[1]:[31]]) -> 0
B10: Employé 4 | AH10: =COUNTA(Juillet[[#This Row],[1]:[31]]) -> 0
B11: Employé 5 | AH11: =COUNTA(Juillet[[#This Row],[1]:[31]]) -> 0
B12: =NomMois&" Total" -> Juillet Total | C12: =SUBTOTAL(103,Juillet[1]) -> 0 | D12: =SUBTOTAL(103,Juillet[2]) -> 0 | E12: =SUBTOTAL(103,Juillet[3]) -> 0 | F12: =SUBTOTAL(103,Juillet[4]) -> 0 | G12: =SUBTOTAL(103,Juillet[5]) -> 0 | H12: =SUBTOTAL(103,Juillet[6]) -> 0 | I12: =SUBTOTAL(103,Juillet[7]) -> 0 | J12: =SUBTOTAL(103,Juillet[8]) -> 0 | K12: =SUBTOTAL(103,Juillet[9]) -> 0 | L12: =SUBTOTAL(103,Juillet[10]) -> 0 | M12: =SUBTOTAL(103,Juillet[11]) -> 0 | N12: =SUBTOTAL(103,Juillet[12]) -> 0 | O12: =SUBTOTAL(103,Juillet[13]) -> 0 | P12: =SUBTOTAL(103,Juillet[14]) -> 0 | Q12: =SUBTOTAL(103,Juillet[15]) -> 0 | R12: =SUBTOTAL(103,Juillet[16]) -> 0 | S12: =SUBTOTAL(103,Juillet[17]) -> 0 | T12: =SUBTOTAL(103,Juillet[18]) -> 0 | U12: =SUBTOTAL(103,Juillet[19]) -> 0 | V12: =SUBTOTAL(103,Juillet[20]) -> 0 | W12: =SUBTOTAL(103,Juillet[21]) -> 0 | X12: =SUBTOTAL(103,Juillet[22]) -> 0 | Y12: =SUBTOTAL(103,Juillet[23]) -> 0 | Z12: =SUBTOTAL(103,Juillet[24]) -> 0 | AA12: =SUBTOTAL(103,Juillet[25]) -> 0 | AB12: =SUBTOTAL(103,Juillet[26]) -> 0 | AC12: =SUBTOTAL(103,Juillet[27]) -> 0 | AD12: =SUBTOTAL(103,Juillet[28]) -> 0 | AE12: =SUBTOTAL(103,Juillet[29]) -> 0 | AF12: =SUBTOTAL(103,Juillet[30]) -> 0 | AG12: =SUBTOTAL(103,Juillet[31]) -> 0 | AH12: =SUBTOTAL(109,Juillet[Total des jours]) -> 0

Sheet Août
B1: =Titre_Absence_Employé -> Calendrier des absences des employés
B2: Clé de motif d’absence | C2: C | D2: Congé | F2: P | G2: Personnel | J2: M | K2: Maladie | N2: Personnalisé 1 | S2: Personnalisé 2
B4: Août | C4: Dates d’absence | AH4: =AnnéeCalendrier -> 2024
C5: =TEXT(WEEKDAY(DATE(AnnéeCalendrier,8,1),1),"jjj") -> jeu | D5: =TEXT(WEEKDAY(DATE(AnnéeCalendrier,8,2),1),"jjj") -> ven | E5: =TEXT(WEEKDAY(DATE(AnnéeCalendrier,8,3),1),"jjj") -> sam | F5: =TEXT(WEEKDAY(DATE(AnnéeCalendrier,8,4),1),"jjj") -> dim | G5: =TEXT(WEEKDAY(DATE(AnnéeCalendrier,8,5),1),"jjj") -> lun | H5: =TEXT(WEEKDAY(DATE(AnnéeCalendrier,8,6),1),"jjj") -> mar | I5: =TEXT(WEEKDAY(DATE(AnnéeCalendrier,8,7),1),"jjj") -> mer | J5: =TEXT(WEEKDAY(DATE(AnnéeCalendrier,8,8),1),"jjj") -> jeu | K5: =TEXT(WEEKDAY(DATE(AnnéeCalendrier,8,9),1),"jjj") -> ven | L5: =TEXT(WEEKDAY(DATE(AnnéeCalendrier,8,10),1),"jjj") -> sam | M5: =TEXT(WEEKDAY(DATE(AnnéeCalendrier,8,11),1),"jjj") -> dim | N5: =TEXT(WEEKDAY(DATE(AnnéeCalendrier,8,12),1),"jjj") -> lun | O5: =TEXT(WEEKDAY(DATE(AnnéeCalendrier,8,13),1),"jjj") -> mar | P5: =TEXT(WEEKDAY(DATE(AnnéeCalendrier,8,14),1),"jjj") -> mer | Q5: =TEXT(WEEKDAY(DATE(AnnéeCalendrier,8,15),1),"jjj") -> jeu | R5: =TEXT(WEEKDAY(DATE(AnnéeCalendrier,8,16),1),"jjj") -> ven | S5: =TEXT(WEEKDAY(DATE(AnnéeCalendrier,8,17),1),"jjj") -> sam | T5: =TEXT(WEEKDAY(DATE(AnnéeCalendrier,8,18),1),"jjj") -> dim | U5: =TEXT(WEEKDAY(DATE(AnnéeCalendrier,8,19),1),"jjj") -> lun | V5: =TEXT(WEEKDAY(DATE(AnnéeCalendrier,8,20),1),"jjj") -> mar | W5: =TEXT(WEEKDAY(DATE(AnnéeCalendrier,8,21),1),"jjj") -> mer | X5: =TEXT(WEEKDAY(DATE(AnnéeCalendrier,8,22),1),"jjj") -> jeu | Y5: =TEXT(WEEKDAY(DATE(AnnéeCalendrier,8,23),1),"jjj") -> ven | Z5: =TEXT(WEEKDAY(DATE(AnnéeCalendrier,8,24),1),"jjj") -> sam | AA5: =TEXT(WEEKDAY(DATE(AnnéeCalendrier,8,25),1),"jjj") -> dim | AB5: =TEXT(WEEKDAY(DATE(AnnéeCalendrier,8,26),1),"jjj") -> lun | AC5: =TEXT(WEEKDAY(DATE(AnnéeCalendrier,8,27),1),"jjj") -> mar | AD5: =TEXT(WEEKDAY(DATE(AnnéeCalendrier,8,28),1),"jjj") -> mer | AE5: =TEXT(WEEKDAY(DATE(AnnéeCalendrier,8,29),1),"jjj") -> jeu | AF5: =TEXT(WEEKDAY(DATE(AnnéeCalendrier,8,30),1),"jjj") -> ven | AG5: =TEXT(WEEKDAY(DATE(AnnéeCalendrier,8,31),1),"jjj") -> sam
B6: Nom de l’employé | C6: 1 | D6: 2 | E6: 3 | F6: 4 | G6: 5 | H6: 6 | I6: 7 | J6: 8 | K6: 9 | L6: 10 | M6: 11 | N6: 12 | O6: 13 | P6: 14 | Q6: 15 | R6: 16 | S6: 17 | T6: 18 | U6: 19 | V6: 20 | W6: 21 | X6: 22 | Y6: 23 | Z6: 24 | AA6: 25 | AB6: 26 | AC6: 27 | AD6: 28 | AE6: 29 | AF6: 30 | AG6: 31 | AH6: Total des jours
B7: Employé 1 | AH7: =COUNTA(Août[[#This Row],[1]:[31]]) -> 0
B8: Employé 2 | AH8: =COUNTA(Août[[#This Row],[1]:[31]]) -> 0
B9: Employé 3 | AH9: =COUNTA(Août[[#This Row],[1]:[31]]) -> 0
B10: Employé 4 | AH10: =COUNTA(Août[[#This Row],[1]:[31]]) -> 0
B11: Employé 5 | AH11: =COUNTA(Août[[#This Row],[1]:[31]]) -> 0
B12: =NomMois&" Total" -> Août Total | C12: =SUBTOTAL(103,Août[1]) -> 0 | D12: =SUBTOTAL(103,Août[2]) -> 0 | E12: =SUBTOTAL(103,Août[3]) -> 0 | F12: =SUBTOTAL(103,Août[4]) -> 0 | G12: =SUBTOTAL(103,Août[5]) -> 0 | H12: =SUBTOTAL(103,Août[6]) -> 0 | I12: =SUBTOTAL(103,Août[7]) -> 0 | J12: =SUBTOTAL(103,Août[8]) -> 0 | K12: =SUBTOTAL(103,Août[9]) -> 0 | L12: =SUBTOTAL(103,Août[10]) -> 0 | M12: =SUBTOTAL(103,Août[11]) -> 0 | N12: =SUBTOTAL(103,Août[12]) -> 0 | O12: =SUBTOTAL(103,Août[13]) -> 0 | P12: =SUBTOTAL(103,Août[14]) -> 0 | Q12: =SUBTOTAL(103,Août[15]) -> 0 | R12: =SUBTOTAL(103,Août[16]) -> 0 | S12: =SUBTOTAL(103,Août[17]) -> 0 | T12: =SUBTOTAL(103,Août[18]) -> 0 | U12: =SUBTOTAL(103,Août[19]) -> 0 | V12: =SUBTOTAL(103,Août[20]) -> 0 | W12: =SUBTOTAL(103,Août[21]) -> 0 | X12: =SUBTOTAL(103,Août[22]) -> 0 | Y12: =SUBTOTAL(103,Août[23]) -> 0 | Z12: =SUBTOTAL(103,Août[24]) -> 0 | AA12: =SUBTOTAL(103,Août[25]) -> 0 | AB12: =SUBTOTAL(103,Août[26]) -> 0 | AC12: =SUBTOTAL(103,Août[27]) -> 0 | AD12: =SUBTOTAL(103,Août[28]) -> 0 | AE12: =SUBTOTAL(103,Août[29]) -> 0 | AF12: =SUBTOTAL(103,Août[30]) -> 0 | AG12: =SUBTOTAL(103,Août[31]) -> 0 | AH12: =SUBTOTAL(109,Août[Total des jours]) -> 0

Sheet Septembre
B1: =Titre_Absence_Employé -> Calendrier des absences des employés
B2: Clé de motif d’absence | C2: C | D2: Congé | F2: P | G2: Personnel | J2: M | K2: Maladie | N2: Personnalisé 1 | S2: Personnalisé 2
B4: Septembre | C4: Dates d’absence | AH4: =AnnéeCalendrier -> 2024
C5: =TEXT(WEEKDAY(DATE(AnnéeCalendrier,9,1),1),"jjj") -> dim | D5: =TEXT(WEEKDAY(DATE(AnnéeCalendrier,9,2),1),"jjj") -> lun | E5: =TEXT(WEEKDAY(DATE(AnnéeCalendrier,9,3),1),"jjj") -> mar | F5: =TEXT(WEEKDAY(DATE(AnnéeCalendrier,9,4),1),"jjj") -> mer | G5: =TEXT(WEEKDAY(DATE(AnnéeCalendrier,9,5),1),"jjj") -> jeu | H5: =TEXT(WEEKDAY(DATE(AnnéeCalendrier,9,6),1),"jjj") -> ven | I5: =TEXT(WEEKDAY(DATE(AnnéeCalendrier,9,7),1),"jjj") -> sam | J5: =TEXT(WEEKDAY(DATE(AnnéeCalendrier,9,8),1),"jjj") -> dim | K5: =TEXT(WEEKDAY(DATE(AnnéeCalendrier,9,9),1),"jjj") -> lun | L5: =TEXT(WEEKDAY(DATE(AnnéeCalendrier,9,10),1),"jjj") -> mar | M5: =TEXT(WEEKDAY(DATE(AnnéeCalendrier,9,11),1),"jjj") -> mer | N5: =TEXT(WEEKDAY(DATE(AnnéeCalendrier,9,12),1),"jjj") -> jeu | O5: =TEXT(WEEKDAY(DATE(AnnéeCalendrier,9,13),1),"jjj") -> ven | P5: =TEXT(WEEKDAY(DATE(AnnéeCalendrier,9,14),1),"jjj") -> sam | Q5: =TEXT(WEEKDAY(DATE(AnnéeCalendrier,9,15),1),"jjj") -> dim | R5: =TEXT(WEEKDAY(DATE(AnnéeCalendrier,9,16),1),"jjj") -> lun | S5: =TEXT(WEEKDAY(DATE(AnnéeCalendrier,9,17),1),"jjj") -> mar | T5: =TEXT(WEEKDAY(DATE(AnnéeCalendrier,9,18),1),"jjj") -> mer | U5: =TEXT(WEEKDAY(DATE(AnnéeCalendrier,9,19),1),"jjj") -> jeu | V5: =TEXT(WEEKDAY(DATE(AnnéeCalendrier,9,20),1),"jjj") -> ven | W5: =TEXT(WEEKDAY(DATE(AnnéeCalendrier,9,21),1),"jjj") -> sam | X5: =TEXT(WEEKDAY(DATE(AnnéeCalendrier,9,22),1),"jjj") -> dim | Y5: =TEXT(WEEKDAY(DATE(AnnéeCalendrier,9,23),1),"jjj") -> lun | Z5: =TEXT(WEEKDAY(DATE(AnnéeCalendrier,9,24),1),"jjj") -> mar | AA5: =TEXT(WEEKDAY(DATE(AnnéeCalendrier,9,25),1),"jjj") -> mer | AB5: =TEXT(WEEKDAY(DATE(AnnéeCalendrier,9,26),1),"jjj") -> jeu | AC5: =TEXT(WEEKDAY(DATE(AnnéeCalendrier,9,27),1),"jjj") -> ven | AD5: =TEXT(WEEKDAY(DATE(AnnéeCalendrier,9,28),1),"jjj") -> sam | AE5: =TEXT(WEEKDAY(DATE(AnnéeCalendrier,9,29),1),"jjj") -> dim | AF5: =TEXT(WEEKDAY(DATE(AnnéeCalendrier,9,30),1),"jjj") -> lun
B6: Nom de l’employé | C6: 1 | D6: 2 | E6: 3 | F6: 4 | G6: 5 | H6: 6 | I6: 7 | J6: 8 | K6: 9 | L6: 10 | M6: 11 | N6: 12 | O6: 13 | P6: 14 | Q6: 15 | R6: 16 | S6: 17 | T6: 18 | U6: 19 | V6: 20 | W6: 21 | X6: 22 | Y6: 23 | Z6: 24 | AA6: 25 | AB6: 26 | AC6: 27 | AD6: 28 | AE6: 29 | AF6: 30 | AH6: Total des jours
B7: Employé 1 | AH7: =COUNTA(Septembre[[#This Row],[1]:[30]]) -> 0
B8: Employé 2 | AH8: =COUNTA(Septembre[[#This Row],[1]:[30]]) -> 0
B9: Employé 3 | AH9: =COUNTA(Septembre[[#This Row],[1]:[30]]) -> 0
B10: Employé 4 | AH10: =COUNTA(Septembre[[#This Row],[1]:[30]]) -> 0
B11: Employé 5 | AH11: =COUNTA(Septembre[[#This Row],[1]:[30]]) -> 0
B12: =NomMois&" Total" -> Septembre Total | C12: =SUBTOTAL(103,Septembre[1]) -> 0 | D12: =SUBTOTAL(103,Septembre[2]) -> 0 | E12: =SUBTOTAL(103,Septembre[3]) -> 0 | F12: =SUBTOTAL(103,Septembre[4]) -> 0 | G12: =SUBTOTAL(103,Septembre[5]) -> 0 | H12: =SUBTOTAL(103,Septembre[6]) -> 0 | I12: =SUBTOTAL(103,Septembre[7]) -> 0 | J12: =SUBTOTAL(103,Septembre[8]) -> 0 | K12: =SUBTOTAL(103,Septembre[9]) -> 0 | L12: =SUBTOTAL(103,Septembre[10]) -> 0 | M12: =SUBTOTAL(103,Septembre[11]) -> 0 | N12: =SUBTOTAL(103,Septembre[12]) -> 0 | O12: =SUBTOTAL(103,Septembre[13]) -> 0 | P12: =SUBTOTAL(103,Septembre[14]) -> 0 | Q12: =SUBTOTAL(103,Septembre[15]) -> 0 | R12: =SUBTOTAL(103,Septembre[16]) -> 0 | S12: =SUBTOTAL(103,Septembre[17]) -> 0 | T12: =SUBTOTAL(103,Septembre[18]) -> 0 | U12: =SUBTOTAL(103,Septembre[19]) -> 0 | V12: =SUBTOTAL(103,Septembre[20]) -> 0 | W12: =SUBTOTAL(103,Septembre[21]) -> 0 | X12: =SUBTOTAL(103,Septembre[22]) -> 0 | Y12: =SUBTOTAL(103,Septembre[23]) -> 0 | Z12: =SUBTOTAL(103,Septembre[24]) -> 0 | AA12: =SUBTOTAL(103,Septembre[25]) -> 0 | AB12: =SUBTOTAL(103,Septembre[26]) -> 0 | AC12: =SUBTOTAL(103,Septembre[27]) -> 0 | AD12: =SUBTOTAL(103,Septembre[28]) -> 0 | AE12: =SUBTOTAL(103,Septembre[29]) -> 0 | AF12: =SUBTOTAL(103,Septembre[30]) -> 0 | AG12: =SUBTOTAL(103,Septembre[[ ]]) -> 0 | AH12: =SUBTOTAL(109,Septembre[Total des jours]) -> 0

Sheet Octobre
B1: =Titre_Absence_Employé -> Calendrier des absences des employés
B2: Clé de motif d’absence | C2: C | D2: Congé | F2: P | G2: Personnel | J2: M | K2: Maladie | N2: Personnalisé 1 | S2: Personnalisé 2
B4: Octobre | C4: Dates d’absence | AH4: =AnnéeCalendrier -> 2024
C5: =TEXT(WEEKDAY(DATE(AnnéeCalendrier,10,1),1),"jjj") -> mar | D5: =TEXT(WEEKDAY(DATE(AnnéeCalendrier,10,2),1),"jjj") -> mer | E5: =TEXT(WEEKDAY(DATE(AnnéeCalendrier,10,3),1),"jjj") -> jeu | F5: =TEXT(WEEKDAY(DATE(AnnéeCalendrier,10,4),1),"jjj") -> ven | G5: =TEXT(WEEKDAY(DATE(AnnéeCalendrier,10,5),1),"jjj") -> sam | H5: =TEXT(WEEKDAY(DATE(AnnéeCalendrier,10,6),1),"jjj") -> dim | I5: =TEXT(WEEKDAY(DATE(AnnéeCalendrier,10,7),1),"jjj") -> lun | J5: =TEXT(WEEKDAY(DATE(AnnéeCalendrier,10,8),1),"jjj") -> mar | K5: =TEXT(WEEKDAY(DATE(AnnéeCalendrier,10,9),1),"jjj") -> mer | L5: =TEXT(WEEKDAY(DATE(AnnéeCalendrier,10,10),1),"jjj") -> jeu | M5: =TEXT(WEEKDAY(DATE(AnnéeCalendrier,10,11),1),"jjj") -> ven | N5: =TEXT(WEEKDAY(DATE(AnnéeCalendrier,10,12),1),"jjj") -> sam | O5: =TEXT(WEEKDAY(DATE(AnnéeCalendrier,10,13),1),"jjj") -> dim | P5: =TEXT(WEEKDAY(DATE(AnnéeCalendrier,10,14),1),"jjj") -> lun | Q5: =TEXT(WEEKDAY(DATE(AnnéeCalendrier,10,15),1),"jjj") -> mar | R5: =TEXT(WEEKDAY(DATE(AnnéeCalendrier,10,16),1),"jjj") -> mer | S5: =TEXT(WEEKDAY(DATE(AnnéeCalendrier,10,17),1),"jjj") -> jeu | T5: =TEXT(WEEKDAY(DATE(AnnéeCalendrier,10,18),1),"jjj") -> ven | U5: =TEXT(WEEKDAY(DATE(AnnéeCalendrier,10,19),1),"jjj") -> sam | V5: =TEXT(WEEKDAY(DATE(AnnéeCalendrier,10,20),1),"jjj") -> dim | W5: =TEXT(WEEKDAY(DATE(AnnéeCalendrier,10,21),1),"jjj") -> lun | X5: =TEXT(WEEKDAY(DATE(AnnéeCalendrier,10,22),1),"jjj") -> mar | Y5: =TEXT(WEEKDAY(DATE(AnnéeCalendrier,10,23),1),"jjj") -> mer | Z5: =TEXT(WEEKDAY(DATE(AnnéeCalendrier,10,24),1),"jjj") -> jeu | AA5: =TEXT(WEEKDAY(DATE(AnnéeCalendrier,10,25),1),"jjj") -> ven | AB5: =TEXT(WEEKDAY(DATE(AnnéeCalendrier,10,26),1),"jjj") -> sam | AC5: =TEXT(WEEKDAY(DATE(AnnéeCalendrier,10,27),1),"jjj") -> dim | AD5: =TEXT(WEEKDAY(DATE(AnnéeCalendrier,10,28),1),"jjj") -> lun | AE5: =TEXT(WEEKDAY(DATE(AnnéeCalendrier,10,29),1),"jjj") -> mar | AF5: =TEXT(WEEKDAY(DATE(AnnéeCalendrier,10,30),1),"jjj") -> mer | AG5: =TEXT(WEEKDAY(DATE(AnnéeCalendrier,10,31),1),"jjj") -> jeu
B6: Nom de l’employé | C6: 1 | D6: 2 | E6: 3 | F6: 4 | G6: 5 | H6: 6 | I6: 7 | J6: 8 | K6: 9 | L6: 10 | M6: 11 | N6: 12 | O6: 13 | P6: 14 | Q6: 15 | R6: 16 | S6: 17 | T6: 18 | U6: 19 | V6: 20 | W6: 21 | X6: 22 | Y6: 23 | Z6: 24 | AA6: 25 | AB6: 26 | AC6: 27 | AD6: 28 | AE6: 29 | AF6: 30 | AG6: 31 | AH6: Total des jours
B7: Employé 1 | AH7: =COUNTA(Octobre[[#This Row],[1]:[31]]) -> 0
B8: Employé 2 | AH8: =COUNTA(Octobre[[#This Row],[1]:[31]]) -> 0
B9: Employé 3 | AH9: =COUNTA(Octobre[[#This Row],[1]:[31]]) -> 0
B10: Employé 4 | AH10: =COUNTA(Octobre[[#This Row],[1]:[31]]) -> 0
B11: Employé 5 | AH11: =COUNTA(Octobre[[#This Row],[1]:[31]]) -> 0
B12: =NomMois&" Total" -> Octobre Total | C12: =SUBTOTAL(103,Octobre[1]) -> 0 | D12: =SUBTOTAL(103,Octobre[2]) -> 0 | E12: =SUBTOTAL(103,Octobre[3]) -> 0 | F12: =SUBTOTAL(103,Octobre[4]) -> 0 | G12: =SUBTOTAL(103,Octobre[5]) -> 0 | H12: =SUBTOTAL(103,Octobre[6]) -> 0 | I12: =SUBTOTAL(103,Octobre[7]) -> 0 | J12: =SUBTOTAL(103,Octobre[8]) -> 0 | K12: =SUBTOTAL(103,Octobre[9]) -> 0 | L12: =SUBTOTAL(103,Octobre[10]) -> 0 | M12: =SUBTOTAL(103,Octobre[11]) -> 0 | N12: =SUBTOTAL(103,Octobre[12]) -> 0 | O12: =SUBTOTAL(103,Octobre[13]) -> 0 | P12: =SUBTOTAL(103,Octobre[14]) -> 0 | Q12: =SUBTOTAL(103,Octobre[15]) -> 0 | R12: =SUBTOTAL(103,Octobre[16]) -> 0 | S12: =SUBTOTAL(103,Octobre[17]) -> 0 | T12: =SUBTOTAL(103,Octobre[18]) -> 0 | U12: =SUBTOTAL(103,Octobre[19]) -> 0 | V12: =SUBTOTAL(103,Octobre[20]) -> 0 | W12: =SUBTOTAL(103,Octobre[21]) -> 0 | X12: =SUBTOTAL(103,Octobre[22]) -> 0 | Y12: =SUBTOTAL(103,Octobre[23]) -> 0 | Z12: =SUBTOTAL(103,Octobre[24]) -> 0 | AA12: =SUBTOTAL(103,Octobre[25]) -> 0 | AB12: =SUBTOTAL(103,Octobre[26]) -> 0 | AC12: =SUBTOTAL(103,Octobre[27]) -> 0 | AD12: =SUBTOTAL(103,Octobre[28]) -> 0 | AE12: =SUBTOTAL(103,Octobre[29]) -> 0 | AF12: =SUBTOTAL(103,Octobre[30]) -> 0 | AG12: =SUBTOTAL(103,Octobre[31]) -> 0 | AH12: =SUBTOTAL(109,Octobre[Total des jours]) -> 0

Sheet Novembre
B1: =Titre_Absence_Employé -> Calendrier des absences des employés
B2: Clé de motif d’absence | C2: C | D2: Congé | F2: P | G2: Personnel | J2: M | K2: Maladie | N2: Personnalisé 1 | S2: Personnalisé 2
B4: Novembre | C4: Dates d’absence | AH4: =AnnéeCalendrier -> 2024
C5: =TEXT(WEEKDAY(DATE(AnnéeCalendrier,11,1),1),"jjj") -> ven | D5: =TEXT(WEEKDAY(DATE(AnnéeCalendrier,11,2),1),"jjj") -> sam | E5: =TEXT(WEEKDAY(DATE(AnnéeCalendrier,11,3),1),"jjj") -> dim | F5: =TEXT(WEEKDAY(DATE(AnnéeCalendrier,11,4),1),"jjj") -> lun | G5: =TEXT(WEEKDAY(DATE(AnnéeCalendrier,11,5),1),"jjj") -> mar | H5: =TEXT(WEEKDAY(DATE(AnnéeCalendrier,11,6),1),"jjj") -> mer | I5: =TEXT(WEEKDAY(DATE(AnnéeCalendrier,11,7),1),"jjj") -> jeu | J5: =TEXT(WEEKDAY(DATE(AnnéeCalendrier,11,8),1),"jjj") -> ven | K5: =TEXT(WEEKDAY(DATE(AnnéeCalendrier,11,9),1),"jjj") -> sam | L5: =TEXT(WEEKDAY(DATE(AnnéeCalendrier,11,10),1),"jjj") -> dim | M5: =TEXT(WEEKDAY(DATE(AnnéeCalendrier,11,11),1),"jjj") -> lun | N5: =TEXT(WEEKDAY(DATE(AnnéeCalendrier,11,12),1),"jjj") -> mar | O5: =TEXT(WEEKDAY(DATE(AnnéeCalendrier,11,13),1),"jjj") -> mer | P5: =TEXT(WEEKDAY(DATE(AnnéeCalendrier,11,14),1),"jjj") -> jeu | Q5: =TEXT(WEEKDAY(DATE(AnnéeCalendrier,11,15),1),"jjj") -> ven | R5: =TEXT(WEEKDAY(DATE(AnnéeCalendrier,11,16),1),"jjj") -> sam | S5: =TEXT(WEEKDAY(DATE(AnnéeCalendrier,11,17),1),"jjj") -> dim | T5: =TEXT(WEEKDAY(DATE(AnnéeCalendrier,11,18),1),"jjj") -> lun | U5: =TEXT(WEEKDAY(DATE(AnnéeCalendrier,11,19),1),"jjj") -> mar | V5: =TEXT(WEEKDAY(DATE(AnnéeCalendrier,11,20),1),"jjj") -> mer | W5: =TEXT(WEEKDAY(DATE(AnnéeCalendrier,11,21),1),"jjj") -> jeu | X5: =TEXT(WEEKDAY(DATE(AnnéeCalendrier,11,22),1),"jjj") -> ven | Y5: =TEXT(WEEKDAY(DATE(AnnéeCalendrier,11,23),1),"jjj") -> sam | Z5: =TEXT(WEEKDAY(DATE(AnnéeCalendrier,11,24),1),"jjj") -> dim | AA5: =TEXT(WEEKDAY(DATE(AnnéeCalendrier,11,25),1),"jjj") -> lun | AB5: =TEXT(WEEKDAY(DATE(AnnéeCalendrier,11,26),1),"jjj") -> mar | AC5: =TEXT(WEEKDAY(DATE(AnnéeCalendrier,11,27),1),"jjj") -> mer | AD5: =TEXT(WEEKDAY(DATE(AnnéeCalendrier,11,28),1),"jjj") -> jeu | AE5: =TEXT(WEEKDAY(DATE(AnnéeCalendrier,11,29),1),"jjj") -> ven | AF5: =TEXT(WEEKDAY(DATE(AnnéeCalendrier,11,30),1),"jjj") -> sam
B6: Nom de l’employé | C6: 1 | D6: 2 | E6: 3 | F6: 4 | G6: 5 | H6: 6 | I6: 7 | J6: 8 | K6: 9 | L6: 10 | M6: 11 | N6: 12 | O6: 13 | P6: 14 | Q6: 15 | R6: 16 | S6: 17 | T6: 18 | U6: 19 | V6: 20 | W6: 21 | X6: 22 | Y6: 23 | Z6: 24 | AA6: 25 | AB6: 26 | AC6: 27 | AD6: 28 | AE6: 29 | AF6: 30 | AH6: Total des jours
B7: Employé 1 | AH7: =COUNTA(Novembre[[#This Row],[1]:[30]]) -> 0
B8: Employé 2 | AH8: =COUNTA(Novembre[[#This Row],[1]:[30]]) -> 0
B9: Employé 3 | AH9: =COUNTA(Novembre[[#This Row],[1]:[30]]) -> 0
B10: Employé 4 | AH10: =COUNTA(Novembre[[#This Row],[1]:[30]]) -> 0
B11: Employé 5 | AH11: =COUNTA(Novembre[[#This Row],[1]:[30]]) -> 0
B12: =NomMois&" Total" -> Novembre Total | C12: =SUBTOTAL(103,Novembre[1]) -> 0 | D12: =SUBTOTAL(103,Novembre[2]) -> 0 | E12: =SUBTOTAL(103,Novembre[3]) -> 0 | F12: =SUBTOTAL(103,Novembre[4]) -> 0 | G12: =SUBTOTAL(103,Novembre[5]) -> 0 | H12: =SUBTOTAL(103,Novembre[6]) -> 0 | I12: =SUBTOTAL(103,Novembre[7]) -> 0 | J12: =SUBTOTAL(103,Novembre[8]) -> 0 | K12: =SUBTOTAL(103,Novembre[9]) -> 0 | L12: =SUBTOTAL(103,Novembre[10]) -> 0 | M12: =SUBTOTAL(103,Novembre[11]) -> 0 | N12: =SUBTOTAL(103,Novembre[12]) -> 0 | O12: =SUBTOTAL(103,Novembre[13]) -> 0 | P12: =SUBTOTAL(103,Novembre[14]) -> 0 | Q12: =SUBTOTAL(103,Novembre[15]) -> 0 | R12: =SUBTOTAL(103,Novembre[16]) -> 0 | S12: =SUBTOTAL(103,Novembre[17]) -> 0 | T12: =SUBTOTAL(103,Novembre[18]) -> 0 | U12: =SUBTOTAL(103,Novembre[19]) -> 0 | V12: =SUBTOTAL(103,Novembre[20]) -> 0 | W12: =SUBTOTAL(103,Novembre[21]) -> 0 | X12: =SUBTOTAL(103,Novembre[22]) -> 0 | Y12: =SUBTOTAL(103,Novembre[23]) -> 0 | Z12: =SUBTOTAL(103,Novembre[24]) -> 0 | AA12: =SUBTOTAL(103,Novembre[25]) -> 0 | AB12: =SUBTOTAL(103,Novembre[26]) -> 0 | AC12: =SUBTOTAL(103,Novembre[27]) -> 0 | AD12: =SUBTOTAL(103,Novembre[28]) -> 0 | AE12: =SUBTOTAL(103,Novembre[29]) -> 0 | AF12: =SUBTOTAL(103,Novembre[30]) -> 0 | AG12: =SUBTOTAL(103,Novembre[[ ]]) -> 0 | AH12: =SUBTOTAL(109,Novembre[Total des jours]) -> 0

Sheet Décembre
B1: =Titre_Absence_Employé -> Calendrier des absences des employés
B2: Clé de motif d’absence | C2: C | D2: Congé | F2: P | G2: Personnel | J2: M | K2: Maladie | N2: Personnalisé 1 | S2: Personnalisé 2
B4: Décembre | C4: Dates d’absence | AH4: =AnnéeCalendrier -> 2024
C5: =TEXT(WEEKDAY(DATE(AnnéeCalendrier,12,1),1),"jjj") -> dim | D5: =TEXT(WEEKDAY(DATE(AnnéeCalendrier,12,2),1),"jjj") -> lun | E5: =TEXT(WEEKDAY(DATE(AnnéeCalendrier,12,3),1),"jjj") -> mar | F5: =TEXT(WEEKDAY(DATE(AnnéeCalendrier,12,4),1),"jjj") -> mer | G5: =TEXT(WEEKDAY(DATE(AnnéeCalendrier,12,5),1),"jjj") -> jeu | H5: =TEXT(WEEKDAY(DATE(AnnéeCalendrier,12,6),1),"jjj") -> ven | I5: =TEXT(WEEKDAY(DATE(AnnéeCalendrier,12,7),1),"jjj") -> sam | J5: =TEXT(WEEKDAY(DATE(AnnéeCalendrier,12,8),1),"jjj") -> dim | K5: =TEXT(WEEKDAY(DATE(AnnéeCalendrier,12,9),1),"jjj") -> lun | L5: =TEXT(WEEKDAY(DATE(AnnéeCalendrier,12,10),1),"jjj") -> mar | M5: =TEXT(WEEKDAY(DATE(AnnéeCalendrier,12,11),1),"jjj") -> mer | N5: =TEXT(WEEKDAY(DATE(AnnéeCalendrier,12,12),1),"jjj") -> jeu | O5: =TEXT(WEEKDAY(DATE(AnnéeCalendrier,12,13),1),"jjj") -> ven | P5: =TEXT(WEEKDAY(DATE(AnnéeCalendrier,12,14),1),"jjj") -> sam | Q5: =TEXT(WEEKDAY(DATE(AnnéeCalendrier,12,15),1),"jjj") -> dim | R5: =TEXT(WEEKDAY(DATE(AnnéeCalendrier,12,16),1),"jjj") -> lun | S5: =TEXT(WEEKDAY(DATE(AnnéeCalendrier,12,17),1),"jjj") -> mar | T5: =TEXT(WEEKDAY(DATE(AnnéeCalendrier,12,18),1),"jjj") -> mer | U5: =TEXT(WEEKDAY(DATE(AnnéeCalendrier,12,19),1),"jjj") -> jeu | V5: =TEXT(WEEKDAY(DATE(AnnéeCalendrier,12,20),1),"jjj") -> ven | W5: =TEXT(WEEKDAY(DATE(AnnéeCalendrier,12,21),1),"jjj") -> sam | X5: =TEXT(WEEKDAY(DATE(AnnéeCalendrier,12,22),1),"jjj") -> dim | Y5: =TEXT(WEEKDAY(DATE(AnnéeCalendrier,12,23),1),"jjj") -> lun | Z5: =TEXT(WEEKDAY(DATE(AnnéeCalendrier,12,24),1),"jjj") -> mar | AA5: =TEXT(WEEKDAY(DATE(AnnéeCalendrier,12,25),1),"jjj") -> mer | AB5: =TEXT(WEEKDAY(DATE(AnnéeCalendrier,12,26),1),"jjj") -> jeu | AC5: =TEXT(WEEKDAY(DATE(AnnéeCalendrier,12,27),1),"jjj") -> ven | AD5: =TEXT(WEEKDAY(DATE(AnnéeCalendrier,12,28),1),"jjj") -> sam | AE5: =TEXT(WEEKDAY(DATE(AnnéeCalendrier,12,29),1),"jjj") -> dim | AF5: =TEXT(WEEKDAY(DATE(AnnéeCalendrier,12,30),1),"jjj") -> lun | AG5: =TEXT(WEEKDAY(DATE(AnnéeCalendrier,12,31),1),"jjj") -> mar
B6: Nom de l’employé | C6: 1 | D6: 2 | E6: 3 | F6: 4 | G6: 5 | H6: 6 | I6: 7 | J6: 8 | K6: 9 | L6: 10 | M6: 11 | N6: 12 | O6: 13 | P6: 14 | Q6: 15 | R6: 16 | S6: 17 | T6: 18 | U6: 19 | V6: 20 | W6: 21 | X6: 22 | Y6: 23 | Z6: 24 | AA6: 25 | AB6: 26 | AC6: 27 | AD6: 28 | AE6: 29 | AF6: 30 | AG6: 31 | AH6: Total des jours
B7: Employé 1 | AH7: =COUNTA(Décembre[[#This Row],[1]:[31]]) -> 0
B8: Employé 2 | AH8: =COUNTA(Décembre[[#This Row],[1]:[31]]) -> 0
B9: Employé 3 | AH9: =COUNTA(Décembre[[#This Row],[1]:[31]]) -> 0
B10: Employé 4 | AH10: =COUNTA(Décembre[[#This Row],[1]:[31]]) -> 0
B11: Employé 5 | AH11: =COUNTA(Décembre[[#This Row],[1]:[31]]) -> 0
B12: =NomMois&" Total" -> Décembre Total | C12: =SUBTOTAL(103,Décembre[1]) -> 0 | D12: =SUBTOTAL(103,Décembre[2]) -> 0 | E12: =SUBTOTAL(103,Décembre[3]) -> 0 | F12: =SUBTOTAL(103,Décembre[4]) -> 0 | G12: =SUBTOTAL(103,Décembre[5]) -> 0 | H12: =SUBTOTAL(103,Décembre[6]) -> 0 | I12: =SUBTOTAL(103,Décembre[7]) -> 0 | J12: =SUBTOTAL(103,Décembre[8]) -> 0 | K12: =SUBTOTAL(103,Décembre[9]) -> 0 | L12: =SUBTOTAL(103,Décembre[10]) -> 0 | M12: =SUBTOTAL(103,Décembre[11]) -> 0 | N12: =SUBTOTAL(103,Décembre[12]) -> 0 | O12: =SUBTOTAL(103,Décembre[13]) -> 0 | P12: =SUBTOTAL(103,Décembre[14]) -> 0 | Q12: =SUBTOTAL(103,Décembre[15]) -> 0 | R12: =SUBTOTAL(103,Décembre[16]) -> 0 | S12: =SUBTOTAL(103,Décembre[17]) -> 0 | T12: =SUBTOTAL(103,Décembre[18]) -> 0 | U12: =SUBTOTAL(103,Décembre[19]) -> 0 | V12: =SUBTOTAL(103,Décembre[20]) -> 0 | W12: =SUBTOTAL(103,Décembre[21]) -> 0 | X12: =SUBTOTAL(103,Décembre[22]) -> 0 | Y12: =SUBTOTAL(103,Décembre[23]) -> 0 | Z12: =SUBTOTAL(103,Décembre[24]) -> 0 | AA12: =SUBTOTAL(103,Décembre[25]) -> 0 | AB12: =SUBTOTAL(103,Décembre[26]) -> 0 | AC12: =SUBTOTAL(103,Décembre[27]) -> 0 | AD12: =SUBTOTAL(103,Décembre[28]) -> 0 | AE12: =SUBTOTAL(103,Décembre[29]) -> 0 | AF12: =SUBTOTAL(103,Décembre[30]) -> 0 | AG12: =SUBTOTAL(103,Décembre[31]) -> 0 | AH12: =SUBTOTAL(109,Décembre[Total des jours]) -> 0

Sheet Noms des employés
B1: Noms des employés
B3: Noms des employés
B4: Employé 1
B5: Employé 2
B6: Employé 3
B7: Employé 4
B8: Employé 5
